Workbook

Sheet About
B1: Resideo Technologies, Inc.
B3: Financial Data Workbook
B4: Third Quarter 2022
B5: 44835
B6: (Unaudited)
B8: Contact:
B9: Jason Willey
B10: Vice President, Investor Relations
B11: jason.willey@resideo.com
B15: The financial data in this workbook should be read in conjunction with, and is qualified by reference to, Resideo’s consolidated and combined financial statements and
B16: related notes thereto, and the “Management’s Discussion and Analysis of Financial Condition and Results of Operations” included in the Forms 10-K
B17: and Forms 10-Q corresponding to the financial data in this workbook. The Forms 10-K and Forms 10-Q can be found at sec.gov or on the investor
B18: relations section of the company's website at investor.resideo.com
B20: Please note that results disclosed in prior period filings may not agree to the current presentation due to reclassification adjustments made in subsequent periods.

Sheet Income Statement
A1: Resideo Technologies, Inc. | B1: FY '18 | C1: FY'19 | H1: FY'20 | M1: FY'21 | R1: FY'22
A2: Consolidated Statements of Income
A3: (unaudited, in millions, except per share data) | B3: Yr Ended | C3: Quarter Ended | G3: Yr Ended | H3: Quarter Ended | L3: Yr Ended | M3: Quarter Ended | Q3: Yr Ended | R3: Quarter Ended | V3: Nine Months Ended
B4: 43465 | C4: 43554 | D4: 43645 | E4: 43736 | F4: 43830 | G4: 43830 | H4: 43918 | I4: 44009 | J4: 44100 | K4: 44196 | L4: 44196 | M4: 44289 | N4: 44380 | O4: 44471 | P4: 44561 | Q4: 44561 | R4: 44653 | S4: 44744 | T4: 44835 | U4: 44561 | V4: 44835
A5: Net sales | B5: 4827 | C5: 1216 | D5: 1242 | E5: 1226 | F5: 1304 | G5: 4988 | H5: 1179 | I5: 1029 | J5: 1362 | K5: 1501 | L5: 5071 | M5: 1419 | N5: 1477 | O5: 1496 | P5: 1454 | Q5: 5846 | R5: 1506 | S5: 1686 | T5: 1618 | V5: 4810
A6: Cost of goods sold | B6: 3392 | C6: 880 | D6: 914 | E6: 912 | F6: 981 | G6: 3687 | H6: 890 | I6: 787 | J6: 987 | K6: 1073 | L6: 3737 | M6: 1044 | N6: 1091 | O6: 1075 | P6: 1053 | Q6: 4263 | R6: 1068 | S6: 1219 | T6: 1188 | V6: 3475
A7: Gross profit | B7: 1435 | C7: 336 | D7: 328 | E7: 314 | F7: 323 | G7: 1301 | H7: 289 | I7: 242 | J7: 375 | K7: 428 | L7: 1334 | M7: 375 | N7: 386 | O7: 421 | P7: 401 | Q7: 1583 | R7: 438 | S7: 467 | T7: 430 | U7: 0 | V7: 1335
A8: Research and development expenses | B8: 59 | C8: 19 | D8: 27 | E8: 20 | F8: 21 | G8: 87 | H8: 18 | I8: 19 | J8: 18 | K8: 22 | L8: 77 | M8: 21 | N8: 22 | O8: 20 | P8: 23 | Q8: 86 | R8: 24 | S8: 28 | T8: 29 | U8: 0 | V8: 81
A9: Selling, general and administrative expenses | B9: 870 | C9: 226 | D9: 252 | E9: 228 | F9: 218 | G9: 924 | H9: 230 | I9: 221 | J9: 219 | K9: 247 | L9: 917 | M9: 215 | N9: 236 | O9: 227 | P9: 230 | Q9: 908 | R9: 236 | S9: 244 | T9: 236 | U9: 0 | V9: 716
A10: Intangible asset amortization | B10: 13 | C10: 6 | D10: 7 | E10: 7 | F10: 12 | G10: 32 | H10: 7 | I10: 8 | J10: 7 | K10: 7 | L10: 29 | M10: 9 | N10: 7 | O10: 7 | P10: 7 | Q10: 30 | R10: 6 | S10: 9 | T10: 10 | V10: 25
A11: Income from operations | B11: 493 | C11: 85 | D11: 42 | E11: 59 | F11: 72 | G11: 258 | H11: 34 | I11: -6 | J11: 131 | K11: 152 | L11: 311 | M11: 130 | N11: 121 | O11: 167 | P11: 141 | Q11: 559 | R11: 172 | S11: 186 | T11: 155 | U11: 0 | V11: 513
A12: Other expense (income), net | B12: 369 | C12: -16 | D12: 35 | E12: 35 | F12: 64 | G12: 118 | H12: 42 | I12: 29 | J12: 35 | K12: 41 | L12: 147 | M12: 44 | N12: 28 | O12: 58 | P12: 28 | Q12: 158 | R12: 40 | S12: 41 | T12: 44 | U12: 0 | V12: 125
A13: Interest expense | B13: 20 | C13: 17 | D13: 18 | E13: 16 | F13: 18 | G13: 69 | H13: 17 | I13: 18 | J13: 14 | K13: 14 | L13: 63 | M13: 13 | N13: 12 | O13: 12 | P13: 11 | Q13: 48 | R13: 11 | S13: 14 | T13: 15 | U13: 0 | V13: 40
A14: Income before taxes | B14: 104 | C14: 84 | D14: -11 | E14: 8 | F14: -10 | G14: 71 | H14: -25 | I14: -53 | J14: 82 | K14: 97 | L14: 101 | M14: 73 | N14: 81 | O14: 97 | P14: 102 | Q14: 353 | R14: 121 | S14: 131 | T14: 96 | U14: 0 | V14: 348
A15: Provision for income taxes | B15: -301 | C15: 36 | D15: 0 | E15: 0 | F15: -1 | G15: 35 | H15: -4 | I15: 23 | J15: 7 | K15: 38 | L15: 64 | M15: 24 | N15: 23 | O15: 29 | P15: 35 | Q15: 111 | R15: 34 | S15: 37 | T15: 33 | U15: 0 | V15: 104
A16: Net income (loss) | B16: 405 | C16: 48 | D16: -11 | E16: 8 | F16: -9 | G16: 36 | H16: -21 | I16: -76 | J16: 75 | K16: 59 | L16: 37 | M16: 49 | N16: 58 | O16: 68 | P16: 67 | Q16: 242 | R16: 87 | S16: 94 | T16: 63 | U16: 0 | V16: 244
A18: Earnings attributable to Resideo Technologies, Inc. per share:
A19: Basic | B19: 3.3061494 | C19: 0.39161296 | D19: -0.089649552 | E19: 0.065162499 | F19: -0.073264248 | G19: 0.29334594 | H19: -0.17078447 | I19: -0.6168681 | J19: 0.60767617 | K19: 0.44898876 | L19: 0.29517822 | M19: 0.34174443 | N19: 0.40294847 | O19: 0.47 | P19: 0.46 | Q19: 1.68 | R19: 0.6 | S19: 0.65 | T19: 0.43 | V19: 1.68
A20: Diluted | B20: 3.3027792 | C20: 0.38875211 | D20: -0.089649552 | E20: 0.064911882 | F20: -0.073264248 | G20: 0.29211769 | H20: -0.17078447 | I20: -0.6168681 | J20: 0.59887412 | K20: 0.43890838 | L20: 0.29289763 | M20: 0.33185241 | N20: 0.3910253 | O20: 0.46 | P20: 0.45 | Q20: 1.63 | R20: 0.58 | S20: 0.63 | T20: 0.42 | V20: 1.64
A22: Weighted average shares outstanding:
A23: Basic | B23: 122499 | C23: 122570 | D23: 122700 | E23: 122770 | F23: 122843 | G23: 122722 | H23: 122962 | I23: 123203 | J23: 123421 | K23: 131406.41 | L23: 125348 | M23: 143382 | N23: 143939 | O23: 144284 | P23: 144560 | Q23: 144036 | R23: 145118 | S23: 145457 | T23: 145755 | V23: 145442
A24: Diluted | B24: 122624 | C24: 123472 | D24: 122700 | E24: 123244 | F24: 122843 | G24: 123238 | H24: 122962 | I24: 123203 | J24: 125235 | K24: 134424.41 | L24: 126324 | M24: 147656 | N24: 148328 | O24: 148559 | P24: 148675 | Q24: 148448 | R24: 148760 | S24: 148829 | T24: 149158 | V24: 148972

Sheet Balance Sheet
A1: Resideo Technologies, Inc. | B1: FY '18 | C1: FY'19 | H1: FY'20 | M1: FY'21 | R1: FY'22 | V1: FY'22
A2: Consolidated Balance Sheets
A3: (unaudited, in millions) | B3: Yr Ended | C3: Quarter Ended | G3: Yr Ended | H3: Quarter Ended | L3: Yr Ended | M3: Quarter Ended | Q3: Yr Ended | R3: Quarter Ended | V3: Quarter Ended
B4: 43465 | C4: 43554 | D4: 43645 | E4: 43736 | F4: 43830 | G4: 43830 | H4: 43918 | I4: 44009 | J4: 44100 | K4: 44196 | L4: 44196 | M4: 44289 | N4: 44380 | O4: 44471 | P4: 44561 | Q4: 44561 | R4: 44653 | S4: 44744 | T4: ='Income Statement'!T4 -> 44835 | U4: 44561 | V4: 44835
A5: ASSETS
A6: Current assets:
A7: Cash and cash equivalents | B7: 265 | C7: 212 | D7: 132 | E7: =132-10 -> 122 | F7: =122-10 -> 112 | G7: =F7 -> 112 | H7: =338-10 -> 328 | I7: =362-11 -> 351 | J7: =260-11 -> 249 | K7: =517-6 -> 511 | L7: =K7 -> 511 | M7: =508-4 -> 504 | N7: =579-4 -> 575 | O7: =686-4 -> 682 | P7: =779-4 -> 775 | Q7: =P7 -> 775 | R7: 240 | S7: 251 | T7: 252 | V7: =T7 -> 252
A8: Accounts receivable, net | B8: 821 | C8: 838 | D8: 835 | E8: 845 | F8: 817 | G8: =F8 -> 817 | H8: 820 | I8: 704 | J8: 884 | K8: 863 | L8: =K8 -> 863 | M8: 875 | N8: 895 | O8: 932 | P8: 876 | Q8: =P8 -> 876 | R8: 1008 | S8: 1073 | T8: 1043 | V8: =T8 -> 1043
A9: Inventories, net | B9: 628 | C9: 701 | D9: 722 | E9: 729 | F9: 671 | G9: =F9 -> 671 | H9: 671 | I9: 614 | J9: 618 | K9: 672 | L9: =K9 -> 672 | M9: 681 | N9: 684 | O9: 710 | P9: 740 | Q9: =P9 -> 740 | R9: 922 | S9: 971 | T9: 957 | V9: =T9 -> 957
A10: Other current assets | B10: 95 | C10: 111 | D10: =147+10 -> 157 | E10: =134+10 -> 144 | F10: =175+10 -> 185 | G10: =F10 -> 185 | H10: =164+10 -> 174 | I10: =163+11 -> 174 | J10: =161+11 -> 172 | K10: =173+6 -> 179 | L10: =K10 -> 179 | M10: =156+4 -> 160 | N10: =198+4 -> 202 | O10: =179+4 -> 183 | P10: =146+4 -> 150 | Q10: =P10 -> 150 | R10: =165+4 -> 169 | S10: =182+4 -> 186 | T10: 198 | V10: =T10 -> 198
A11: Total current assets | B11: =SUM(B7:B10) -> 1809 | C11: =SUM(C7:C10) -> 1862 | D11: =SUM(D7:D10) -> 1846 | E11: =SUM(E7:E10) -> 1840 | F11: =SUM(F7:F10) -> 1785 | G11: =SUM(G7:G10) -> 1785 | H11: =SUM(H7:H10) -> 1993 | I11: =SUM(I7:I10) -> 1843 | ... N11: =SUM(N7:N10) -> 2356 | O11: =SUM(O7:O9)+SUM(O10:O10) -> 2507 | P11: =SUM(P7:P9)+SUM(P10:P10) -> 2541 | Q11: =P11 -> 2541 | R11: =SUM(R7:R10) -> 2339 | S11: =SUM(S7:S10) -> 2481 | T11: =SUM(T7:T9)+SUM(T10:T10) -> 2450 | U11: =SUM(U7:U9)+SUM(U10:U10) -> 0 | V11: =SUM(V7:V10) -> 2450
A13: Property, plant and equipment, net | B13: 300 | C13: 296 | D13: 304 | E13: 306 | F13: 316 | G13: =F13 -> 316 | H13: 304 | I13: 311 | J13: 311 | K13: 318 | L13: =K13 -> 318 | M13: 307 | N13: 304 | O13: 290 | P13: 287 | Q13: =P13 -> 287 | R13: 350 | S13: 363 | T13: 351 | V13: =T13 -> 351
A14: Goodwill | B14: 2634 | C14: 2644 | D14: 2650 | E14: 2632 | F14: 2642 | G14: =F14 -> 2642 | H14: 2612 | I14: 2638 | J14: 2657 | K14: 2691 | L14: =K14 -> 2691 | M14: 2675 | N14: 2682 | O14: 2671 | P14: 2661 | Q14: =P14 -> 2661 | R14: 3125 | S14: 2695 | T14: 2678 | V14: =T14 -> 2678
A15: Other intangible assets, net | B15: 133 | C15: 128 | D15: 127 | E15: 125 | F15: 127 | G15: =F15 -> 127 | H15: 137 | I15: 134 | J15: 132 | K15: 135 | L15: =K15 -> 135 | M15: 126 | N15: 127 | O15: 123 | P15: 120 | Q15: =P15 -> 120 | R15: 124 | S15: 463 | T15: 460 | V15: =T15 -> 460
A16: Other assets | B16: =229-133 -> 96 | C16: =342-C15 -> 214 | D16: =360-127 -> 233 | E16: =355-125 -> 230 | F16: =385-127 -> 258 | G16: =F16 -> 258 | H16: =378-137 -> 241 | I16: =374-134 -> 240 | J16: =378-132 -> 246 | K16: =376-135 -> 241 | L16: =K16 -> 241 | M16: =374-126 -> 248 | N16: =370-127 -> 243 | O16: =366-123 -> 243 | P16: =364-120 -> 244 | Q16: =P16 -> 244 | R16: =431-124 -> 307 | S16: 314 | T16: 323 | V16: =T16 -> 323
A17: Total assets | B17: =SUM(B11:B16) -> 4972 | C17: =SUM(C11:C16) -> 5144 | D17: =SUM(D11:D16) -> 5160 | E17: =SUM(E11:E16) -> 5133 | F17: =SUM(F11:F16) -> 5128 | G17: =SUM(G11:G16) -> 5128 | H17: =SUM(H11:H16) -> 5287 | I17: =SUM(I11:I16) -> 5166 | ... N17: =SUM(N11:N16) -> 5712 | O17: =O11+SUM(O13:O16) -> 5834 | P17: =P11+SUM(P13:P16) -> 5853 | Q17: =P17 -> 5853 | R17: =SUM(R11:R16) -> 6245 | S17: =SUM(S11:S16) -> 6316 | T17: =T11+SUM(T13:T16) -> 6262 | U17: =U11+SUM(U13:U16) -> 0 | V17: =SUM(V11:V16) -> 6262
A19: LIABILITIES AND EQUITY
A20: Current liabilities:
A21: Accounts payable | B21: 964 | C21: 1013 | D21: 1009 | E21: 932 | F21: 920 | G21: =F21 -> 920 | H21: 906 | I21: 811 | J21: 858 | K21: 936 | L21: =K21 -> 936 | M21: 908 | N21: 915 | O21: 905 | P21: 883 | Q21: =P21 -> 883 | R21: 958 | S21: 987 | T21: 936 | V21: =T21 -> 936
A22: Current maturities of long-term debt | B22: 22 | C22: 22 | D22: 22 | E22: 88 | F22: 22 | G22: =F22 -> 22 | H22: 382 | I22: 287 | J22: 181 | K22: 7 | L22: =K22 -> 7 | M22: 10 | N22: 10 | O22: 10 | P22: 10 | Q22: =P22 -> 10 | R22: 12 | S22: 12 | T22: 12 | V22: =T22 -> 12
A23: Accrued liabilities | B23: 503 | C23: 524 | D23: 528 | E23: 531 | F23: 552 | G23: =F23 -> 552 | H23: 467 | I23: 564 | J23: 606 | K23: 595 | L23: =K23 -> 595 | M23: 528 | N23: 586 | O23: 617 | P23: 601 | Q23: =P23 -> 601 | R23: 576 | S23: 580 | T23: 594 | V23: =T23 -> 594
A24: Total current liabilities | B24: =SUM(B21:B23) -> 1489 | C24: =SUM(C21:C23) -> 1559 | D24: =SUM(D21:D23) -> 1559 | E24: =SUM(E21:E23) -> 1551 | F24: =SUM(F21:F23) -> 1494 | G24: =SUM(G21:G23) -> 1494 | H24: =SUM(H21:H23) -> 1755 | I24: =SUM(I21:I23) -> 1662 | ... P24: =SUM(P21:P23) -> 1494 | Q24: =P24 -> 1494 | R24: =SUM(R21:R23) -> 1546 | S24: =SUM(S21:S23) -> 1579 | T24: =SUM(T21:T23) -> 1542 | U24: =SUM(U21:U23) -> 0 | V24: =SUM(V21:V23) -> 1542
A26: Long-term debt, net of current maturities | B26: 1179 | C26: 1174 | D26: 1169 | E26: 1165 | F26: 1158 | G26: =F26 -> 1158 | H26: 1149 | I26: 1140 | J26: 1141 | K26: 1155 | L26: =K26 -> 1155 | M26: 1186 | N26: 1184 | O26: 1222 | P26: 1220 | Q26: =P26 -> 1220 | R26: 1412 | S26: 1410 | T26: 1407 | V26: =T26 -> 1407
A27: Obligations payable under Indemnification Agreements | B27: 629 | C27: 580 | D27: 581 | E27: 580 | F27: 594 | G27: =F27 -> 594 | H27: 592 | I27: 585 | J27: 586 | K27: 590 | L27: =K27 -> 590 | M27: 583 | N27: 584 | O27: 587 | P27: 585 | Q27: =P27 -> 585 | R27: 592 | S27: 601 | T27: 575 | V27: =T27 -> 575
A28: Other liabilities | B28: 142 | C28: 239 | D28: 258 | E28: 264 | F28: 280 | G28: =F28 -> 280 | H28: 270 | I28: 284 | J28: 292 | K28: 334 | L28: =K28 -> 334 | M28: 329 | N28: 330 | O28: 335 | P28: 302 | Q28: =P28 -> 302 | R28: 334 | S28: 332 | T28: 338 | V28: =T28 -> 338
A29: Total liabilities | B29: =SUM(B24:B28) -> 3439 | C29: =SUM(C24:C28) -> 3552 | D29: =SUM(D24:D28) -> 3567 | E29: =SUM(E24:E28) -> 3560 | F29: =SUM(F24:F28) -> 3526 | G29: =SUM(G24:G28) -> 3526 | H29: =SUM(H24:H28) -> 3766 | I29: =SUM(I24:I28) -> 3671 | ... P29: =SUM(P24:P28) -> 3601 | Q29: =P29 -> 3601 | R29: =SUM(R24:R28) -> 3884 | S29: =SUM(S24:S28) -> 3922 | T29: =SUM(T24:T28) -> 3862 | U29: =SUM(U24:U28) -> 0 | V29: =SUM(V24:V28) -> 3862
A32: Resideo Technologies, Inc. equity:
A33: Common shares | B33: 0 | C33: 0 | D33: 0 | E33: 0 | F33: 0 | G33: =F33 -> 0 | H33: 0 | I33: 0 | J33: 0 | K33: 0 | L33: =K33 -> 0 | M33: 0 | N33: 0 | O33: 0 | P33: 0 | Q33: =P33 -> 0 | R33: 0 | S33: 0 | T33: 0 | V33: =T33 -> 0
A34: Additional paid-in capital | B34: 1720 | C34: 1727 | D34: 1743 | E34: 1751 | F34: 1761 | G34: =F34 -> 1761 | H34: 1768 | I34: 1775 | J34: 1782 | K34: 2070 | L34: =K34 -> 2070 | M34: 2088 | N34: 2098 | O34: 2111 | P34: 2121 | Q34: =P34 -> 2121 | R34: 2135 | S34: 2147 | T34: 2162 | V34: =T34 -> 2162
A35: Retained earnings (deficit) | B35: 2 | C35: 50 | D35: 39 | E35: 47 | F35: 38 | G35: =F35 -> 38 | H35: 17 | I35: -59 | J35: 16 | K35: 75 | L35: =K35 -> 75 | M35: 124 | N35: 182 | O35: 250 | P35: 317 | Q35: =P35 -> 317 | R35: 404 | S35: 498 | T35: 561 | V35: =T35 -> 561
A36: Accumulated other comprehensive loss | B36: -189 | C36: -183 | D36: -187 | E36: -222 | F36: -194 | G36: =F36 -> -194 | H36: -260 | I36: -216 | J36: -188 | K36: -146 | L36: =K36 -> -146 | M36: -170 | N36: -163 | O36: -187 | P36: -165 | Q36: =P36 -> -165 | R36: -151 | S36: -220 | T36: -292 | V36: =T36 -> -292
A37: Treasury shares | B37: 0 | C37: -2 | D37: -2 | E37: -3 | F37: -3 | G37: =F37 -> -3 | H37: -4 | I37: -5 | J37: -5 | K37: -6 | L37: =K37 -> -6 | M37: -10 | N37: -14 | O37: -16 | P37: -21 | Q37: =P37 -> -21 | R37: -27 | S37: -31 | T37: -31 | V37: =T37 -> -31
A38: Total Resideo Technologies, Inc. equity | B38: =SUM(B33:B37) -> 1533 | C38: =SUM(C33:C37) -> 1592 | D38: =SUM(D33:D37) -> 1593 | E38: =SUM(E33:E37) -> 1573 | F38: =SUM(F33:F37) -> 1602 | G38: =SUM(G33:G37) -> 1602 | H38: =SUM(H33:H37) -> 1521 | I38: =SUM(I33:I37) -> 1495 | ... N38: =SUM(N33:N37) -> 2103 | O38: =SUM(O32:O37) -> 2158 | P38: =SUM(P32:P37) -> 2252 | Q38: =P38 -> 2252 | R38: =SUM(R33:R37) -> 2361 | S38: =SUM(S33:S37) -> 2394 | T38: =SUM(T32:T37) -> 2400 | U38: =SUM(U32:U37) -> 0 | V38: =SUM(V34:V37) -> 2400
A40: Total liabilities and equity | B40: =B29+B38 -> 4972 | C40: =C29+C38 -> 5144 | D40: =D29+D38 -> 5160 | E40: =E29+E38 -> 5133 | F40: =F29+F38 -> 5128 | G40: =G29+G38 -> 5128 | H40: =H29+H38 -> 5287 | I40: =I29+I38 -> 5166 | ... V40: =V29+V38 -> 6262
B41: =B17-B40 -> 0 | C41: =C17-C40 -> 0 | D41: =D17-D40 -> 0 | E41: =E17-E40 -> 0 | F41: =F17-F40 -> 0 | G41: =G17-G40 -> 0 | H41: =H17-H40 -> 0 | I41: =I17-I40 -> 0 | ... S41: =S17-S40 -> 0 | V41: =V17-V40 -> 0
A43: Days sales outstanding | C43: =C8/('Income Statement'!C5/('Balance Sheet'!C4-'Balance Sheet'!B4)) -> 61.333882 | D43: =D8/('Income Statement'!D5/('Balance Sheet'!D4-'Balance Sheet'!C4)) -> 61.179549 | E43: =E8/('Income Statement'!E5/('Balance Sheet'!E4-'Balance Sheet'!D4)) -> 62.720228 | F43: =F8/('Income Statement'!F5/('Balance Sheet'!F4-'Balance Sheet'!E4)) -> 58.894172 | H43: =H8/('Income Statement'!H5/('Balance Sheet'!H4-'Balance Sheet'!G4)) -> 61.204411 | I43: =I8/('Income Statement'!I5/('Balance Sheet'!I4-'Balance Sheet'!H4)) -> 62.258503 | J43: =J8/('Income Statement'!J5/('Balance Sheet'!J4-'Balance Sheet'!I4)) -> 59.063142 | K43: =K8/('Income Statement'!K5/('Balance Sheet'!K4-'Balance Sheet'!J4)) -> 55.195203 | M43: =M8/('Income Statement'!M5/('Balance Sheet'!M4-'Balance Sheet'!L4)) -> 57.346723 | N43: =N8/('Income Statement'!N5/('Balance Sheet'!N4-'Balance Sheet'!M4)) -> 55.14218 | O43: =O8/('Income Statement'!O5/('Balance Sheet'!O4-'Balance Sheet'!N4)) -> 56.692513 | P43: =P8/('Income Statement'!P5/('Balance Sheet'!P4-'Balance Sheet'!O4)) -> 54.222834 | R43: =R8/('Income Statement'!R5/('Balance Sheet'!R4-'Balance Sheet'!Q4)) -> 61.577689 | S43: =S8/('Income Statement'!S5/('Balance Sheet'!S4-'Balance Sheet'!R4)) -> 57.913998 | T43: =T8/('Income Statement'!T5/('Balance Sheet'!T4-'Balance Sheet'!S4)) -> 58.660692 | U43: =U8/('Income Statement'!U5/('Balance Sheet'!U4-'Balance Sheet'!T4)) -> #DIV/0!
A44: Days inventory outstanding | C44: =C9/'Income Statement'!C6*('Balance Sheet'!C$4-'Balance Sheet'!B$4) -> 70.896591 | D44: =D9/'Income Statement'!D6*('Balance Sheet'!D$4-'Balance Sheet'!C$4) -> 71.884026 | E44: =E9/'Income Statement'!E6*('Balance Sheet'!E$4-'Balance Sheet'!D$4) -> 72.740132 | F44: =F9/'Income Statement'!F6*('Balance Sheet'!F$4-'Balance Sheet'!E$4) -> 64.295617 | H44: =H9/'Income Statement'!H6*('Balance Sheet'!H$4-'Balance Sheet'!G$4) -> 66.346067 | I44: =I9/'Income Statement'!I6*('Balance Sheet'!I$4-'Balance Sheet'!H$4) -> 70.996188 | J44: =J9/'Income Statement'!J6*('Balance Sheet'!J$4-'Balance Sheet'!I$4) -> 56.978723 | K44: =K9/'Income Statement'!K6*('Balance Sheet'!K$4-'Balance Sheet'!J$4) -> 60.12302 | M44: =M9/'Income Statement'!M6*('Balance Sheet'!M$4-'Balance Sheet'!L$4) -> 60.663793 | N44: =N9/'Income Statement'!N6*('Balance Sheet'!N$4-'Balance Sheet'!M$4) -> 57.052246 | O44: =O9/'Income Statement'!O6*('Balance Sheet'!O$4-'Balance Sheet'!N$4) -> 60.102326 | P44: =P9/'Income Statement'!P6*('Balance Sheet'!P$4-'Balance Sheet'!O$4) -> 63.247863 | R44: =R9/'Income Statement'!R6*('Balance Sheet'!R$4-'Balance Sheet'!Q$4) -> 79.423221 | S44: =S9/'Income Statement'!S6*('Balance Sheet'!S$4-'Balance Sheet'!R$4) -> 72.486464 | T44: =T9/'Income Statement'!T6*('Balance Sheet'!T$4-'Balance Sheet'!S$4) -> 73.305556 | U44: =U9/'Income Statement'!U6*('Balance Sheet'!U$4-'Balance Sheet'!T$4) -> #DIV/0!
A45: Days payable outstanding | C45: =C21/'Income Statement'!C6*('Balance Sheet'!C$4-'Balance Sheet'!B$4) -> 102.45114 | D45: =D21/'Income Statement'!D6*('Balance Sheet'!D$4-'Balance Sheet'!C$4) -> 100.45842 | E45: =E21/'Income Statement'!E6*('Balance Sheet'!E$4-'Balance Sheet'!D$4) -> 92.995614 | F45: =F21/'Income Statement'!F6*('Balance Sheet'!F$4-'Balance Sheet'!E$4) -> 88.154944 | H45: =H21/'Income Statement'!H6*('Balance Sheet'!H$4-'Balance Sheet'!G$4) -> 89.582022 | I45: =I21/'Income Statement'!I6*('Balance Sheet'!I$4-'Balance Sheet'!H$4) -> 93.775095 | J45: =J21/'Income Statement'!J6*('Balance Sheet'!J$4-'Balance Sheet'!I$4) -> 79.106383 | K45: =K21/'Income Statement'!K6*('Balance Sheet'!K$4-'Balance Sheet'!J$4) -> 83.742777 | M45: =M21/'Income Statement'!M6*('Balance Sheet'!M$4-'Balance Sheet'!L$4) -> 80.885057 | N45: =N21/'Income Statement'!N6*('Balance Sheet'!N$4-'Balance Sheet'!M$4) -> 76.31989 | O45: =O21/'Income Statement'!O6*('Balance Sheet'!O$4-'Balance Sheet'!N$4) -> 76.609302 | P45: =P21/'Income Statement'!P6*('Balance Sheet'!P$4-'Balance Sheet'!O$4) -> 75.470085 | R45: =R21/'Income Statement'!R6*('Balance Sheet'!R$4-'Balance Sheet'!Q$4) -> 82.524345 | S45: =S21/'Income Statement'!S6*('Balance Sheet'!S$4-'Balance Sheet'!R$4) -> 73.680886 | T45: =T21/'Income Statement'!T6*('Balance Sheet'!T$4-'Balance Sheet'!S$4) -> 71.69697 | U45: =U21/'Income Statement'!U6*('Balance Sheet'!U$4-'Balance Sheet'!T$4) -> #DIV/0!
A46: Cash conversion cycle | C46: =C43+C44-C45 -> 29.779336 | D46: =D43+D44-D45 -> 32.605151 | E46: =E43+E44-E45 -> 42.464746 | F46: =F43+F44-F45 -> 35.034845 | H46: =H43+H44-H45 -> 37.968455 | I46: =I43+I44-I45 -> 39.479596 | J46: =J43+J44-J45 -> 36.935483 | K46: =K43+K44-K45 -> 31.575446 | M46: =M43+M44-M45 -> 37.125459 | N46: =N43+N44-N45 -> 35.874536 | O46: =O43+O44-O45 -> 40.185537 | P46: =P43+P44-P45 -> 42.000611 | R46: =R43+R44-R45 -> 58.476566 | S46: =S43+S44-S45 -> 56.719576 | T46: =T43+T44-T45 -> 60.269278 | U46: =U43+U44-U45 -> #DIV/0!

Sheet Cash Flows YTD
A1: Resideo Technologies, Inc. | B1: FY '18 | C1: FY'19 | H1: FY'20 | M1: FY'21 | R1: FY'22
A2: Consolidated Statements of Cash Flows (Cumulative)
A3: (unaudited, in millions) | B3: YTD Ended | C3: YTD Period Ended | G3: YTD Ended | H3: YTD Period Ended | L3: YTD Ended | M3: YTD Period Ended | Q3: YTD Ended | R3: YTD Period Ended | V3: Nine Months Ended
B4: 43465 | C4: 43554 | D4: 43645 | E4: 43736 | F4: 43830 | G4: 43830 | H4: 43918 | I4: 44009 | J4: 44100 | K4: 44196 | L4: 44196 | M4: 44289 | N4: 44380 | O4: 44471 | P4: 44561 | Q4: 44561 | R4: 44653 | S4: 44744 | T4: ='Income Statement'!T4 -> 44835 | U4: 44561 | V4: 44835
A5: Cash flows from operating activities:
A6: Net income (loss) | B6: 405 | C6: ='Income Statement'!C16 -> 48 | D6: ='Income Statement'!D16+C6 -> 37 | E6: ='Income Statement'!E16+'Income Statement'!D16+'Income Statement'!C16 -> 45 | F6: ='Income Statement'!F16+E6 -> 36 | G6: =F6 -> 36 | H6: ='Income Statement'!H16 -> -21 | I6: ='Income Statement'!I16+H6 -> -97 | J6: ='Income Statement'!J16+I6 -> -22 | K6: ='Income Statement'!K16+J6 -> 37 | L6: =K6 -> 37 | M6: ='Income Statement'!M16 -> 49 | N6: ='Income Statement'!N16+M6 -> 107 | O6: ='Income Statement'!O16+N6 -> 175 | P6: ='Income Statement'!P16+O6 -> 242 | Q6: =P6 -> 242 | R6: ='Income Statement'!R16 -> 87 | S6: ='Income Statement'!S16+'Income Statement'!R16 -> 181 | T6: ='Income Statement'!T16+'Income Statement'!S16+'Income Statement'!R16 -> 244 | V6: =T6 -> 244
A7: Adjustments to reconcile net income (loss) to net cash provided by operating activities:
A8: Depreciation and amortization | B8: 66 | C8: 16 | D8: 36 | E8: 55 | F8: 80 | G8: =F8 -> 80 | H8: 21 | I8: 42 | J8: 64 | K8: 86 | L8: =K8 -> 86 | M8: 23 | N8: 45 | O8: 67 | P8: 88 | Q8: =P8 -> 88 | R8: 20 | S8: 45 | T8: 69 | V8: =T8 -> 69
A9: Share-based compensation expense | B9: 20 | C9: 7 | D9: 14 | E9: 22 | F9: 25 | G9: =F9 -> 25 | H9: 7 | I9: 14 | J9: 21 | K9: 29 | L9: =K9 -> 29 | M9: 9 | N9: 19 | O9: 29 | P9: 39 | Q9: =P9 -> 39 | R9: 11 | S9: 22 | T9: 36 | V9: =T9 -> 36
A10: Deferred income taxes | B10: -323 | C10: 0 | D10: 0 | E10: 0 | F10: -25 | G10: =F10 -> -25 | H10: 0 | I10: 0 | J10: 0 | K10: 22 | L10: =K10 -> 22 | M10: 0 | N10: 0 | O10: 0 | P10: 6 | Q10: =P10 -> 6 | R10: 0 | S10: 0 | T10: 0 | V10: =T10 -> 0
A11: Loss on extinguishment of debt | B11: 0 | C11: 0 | D11: 0 | E11: 0 | F11: 0 | G11: 0 | H11: 0 | I11: 0 | J11: 0 | K11: 0 | L11: 0 | M11: 23 | N11: 23 | O11: 41 | P11: 41 | Q11: =P11 -> 41 | R11: 0 | S11: 0 | T11: 0 | V11: =T11 -> 0
A12: Other, net | B12: 22 | C12: 3 | D12: =6+14 -> 20 | E12: =10+12 -> 22 | F12: =18+6 -> 24 | G12: =F12 -> 24 | H12: 17 | I12: 27 | J12: 24 | K12: 26 | L12: =K12 -> 26 | M12: =25-M11-6 -> -4 | N12: =-5-2-9+2 -> -14 | O12: =28-41+3 -> -10 | P12: =26-41+3 -> -12 | Q12: =P12 -> -12 | R12: =2 -> 2 | S12: -5 | T12: 8 | V12: =T12 -> 8
A13: Changes in operating assets and liabilities, net of effect of acquisitions:
A14: Accounts receivable, net | B14: -62 | C14: -17 | D14: -7 | E14: -27 | F14: 7 | G14: =F14 -> 7 | H14: -17 | I14: 113 | J14: -64 | K14: -27 | L14: =K14 -> -27 | M14: -17 | N14: -33 | O14: -78 | P14: -30 | Q14: =P14 -> -30 | R14: -61 | S14: -145 | T14: -142 | V14: =T14 -> -142
A15: Inventories, net | B15: -172 | C15: -72 | D15: -95 | E15: -109 | F15: -44 | G15: =F15 -> -44 | H15: -6 | I15: 58 | J15: 64 | K15: 19 | L15: =K15 -> 19 | M15: -10 | N15: -8 | O15: -40 | P15: -73 | Q15: =P15 -> -73 | R15: -66 | S15: -127 | T15: -129 | V15: =T15 -> -129
A16: Other current assets | B16: -27 | C16: -16 | D16: -8 | E16: -13 | F16: -53 | G16: =F16 -> -53 | H16: 10 | I16: 13 | J16: 15 | K16: 5 | L16: =K16 -> 5 | M16: 16 | N16: -24 | O16: -6 | P16: 27 | Q16: =P16 -> 27 | R16: -12 | S16: -21 | T16: -38 | V16: =T16 -> -38
A17: Accounts payable | B17: 231 | C17: 70 | D17: 25 | E17: -23 | F17: -38 | G17: =F17 -> -38 | H17: -1 | I17: -109 | J17: -62 | K17: -1 | L17: =K17 -> -1 | M17: -15 | N17: -15 | O17: -19 | P17: -42 | Q17: =P17 -> -42 | R17: 17 | S17: 54 | T17: 5 | V17: =T17 -> 5
A18: Accrued liabilities | B18: 61 | C18: -6 | D18: =-3-14 -> -17 | E18: =6-12 -> -6 | F18: =28-6 -> 22 | G18: =F18 -> 22 | H18: -80 | I18: 8 | J18: 48 | K18: 26 | L18: =K18 -> 26 | M18: =-66+6 -> -60 | N18: =-10+9 -> -1 | O18: 40 | P18: 29 | Q18: =P18 -> 29 | R18: -66 | S18: -47 | T18: -25 | V18: =T18 -> -25
A19: Obligations payable under Indemnification Agreements | B19: 24 | C19: -49 | D19: -48 | E19: -49 | F19: -35 | G19: =F19 -> -35 | H19: -2 | I19: -9 | J19: -8 | K19: -4 | L19: =K19 -> -4 | M19: -7 | N19: -6 | O19: -3 | P19: -5 | Q19: =P19 -> -5 | R19: 7 | S19: 16 | T19: -10 | V19: =T19 -> -10
A20: Other, net | B20: 217 | C20: 6 | D20: 6 | E20: 13 | F20: 24 | G20: =F20 -> 24 | H20: -2 | I20: 11 | J20: 12 | K20: 26 | L20: =K20 -> 26 | M20: -2 | N20: 6 | O20: 7 | P20: =2+3 -> 5 | Q20: =P20 -> 5 | R20: 2 | S20: 3 | T20: =-15+10 -> -5 | V20: =T20 -> -5
A21: Net cash provided by (used for) operating activities | B21: =SUM(B6:B20) -> 462 | C21: =SUM(C6:C20) -> -10 | D21: =SUM(D6:D20) -> -37 | E21: =SUM(E6:E20) -> -70 | F21: =SUM(F6:F20) -> 23 | G21: =F21 -> 23 | H21: =SUM(H6:H20) -> -74 | I21: =SUM(I6:I20) -> 71 | J21: =SUM(J6:J20) -> 92 | K21: =SUM(K6:K20) -> 244 | L21: =K21 -> 244 | M21: =SUM(M6:M20) -> 5 | N21: =SUM(N6:N20) -> 99 | O21: =SUM(O6:O20) -> 203 | P21: =SUM(P6:P20) -> 315 | Q21: =P21 -> 315 | R21: =SUM(R6:R20) -> -59 | S21: =SUM(S6:S20) -> -24 | T21: =SUM(T6:T20) -> 13 | U21: =SUM(U6:U20) -> 0 | V21: =SUM(V6:V20) -> 13
A23: Cash flows from investing activities:
A24: Capital expenditures | B24: -81 | C24: -15 | D24: -38 | E24: -66 | F24: -95 | G24: =F24 -> -95 | H24: -16 | I24: -31 | J24: -50 | K24: -70 | L24: =K24 -> -70 | M24: -19 | N24: -35 | O24: -48 | P24: -63 | Q24: =P24 -> -63 | R24: -19 | S24: -24 | T24: -34 | V24: =T24 -> -34
A25: Acquisitions, net of cash acquired | B25: 0 | C25: -6 | D25: -17 | E25: -17 | F25: -17 | G25: =F25 -> -17 | H25: -35 | I25: -35 | J25: -35 | K25: -35 | L25: =K25 -> -35 | M25: -5 | N25: -10 | O25: -11 | P25: -11 | Q25: =P25 -> -11 | R25: -633 | S25: -633 | T25: -660 | V25: =T25 -> -660
A26: Other, net | B26: 7 | C26: 0 | D26: 0 | E26: 0 | F26: 0 | G26: =F26 -> 0 | H26: 0 | I26: 0 | J26: 0 | K26: 2 | L26: =K26 -> 2 | M26: 0 | N26: 3 | O26: 3 | P26: 9 | Q26: =P26 -> 9 | R26: -13 | S26: -13 | T26: -13 | V26: =T26 -> -13
A27: Net cash used in investing activities | B27: =SUM(B24:B26) -> -74 | C27: =SUM(C24:C26) -> -21 | D27: =SUM(D24:D26) -> -55 | E27: =SUM(E24:E26) -> -83 | F27: =SUM(F24:F26) -> -112 | G27: =F27 -> -112 | H27: =SUM(H24:H26) -> -51 | I27: =SUM(I24:I26) -> -66 | J27: =SUM(J24:J26) -> -85 | K27: =SUM(K24:K26) -> -103 | L27: =K27 -> -103 | M27: =SUM(M24:M26) -> -24 | N27: =SUM(N24:N26) -> -42 | O27: =SUM(O24:O26) -> -56 | P27: =SUM(P24:P26) -> -65 | Q27: =P27 -> -65 | R27: =SUM(R24:R26) -> -665 | S27: =SUM(S24:S26) -> -670 | T27: =SUM(T24:T26) -> -707 | U27: =SUM(U24:U26) -> 0 | V27: =SUM(V24:V26) -> -707
A29: Cash flow from financing activities:
A30: Issuance of common stock through public offering, net of issuance cost | B30: 0 | C30: 0 | D30: 0 | E30: 0 | F30: 0 | G30: =F30 -> 0 | H30: 0 | I30: 0 | J30: 0 | K30: 279 | L30: =K30 -> 279 | M30: 0 | N30: 0 | O30: 0 | P30: 0 | Q30: =P30 -> 0 | R30: 0 | S30: 0 | T30: 0 | V30: =T30 -> 0
A31: Proceeds from long-term debt | B31: 1225 | C31: 0 | D31: 0 | E31: 0 | F31: 0 | G31: 0 | H31: 0 | I31: 0 | J31: 0 | K31: 0 | L31: 0 | M31: 950 | N31: 950 | O31: 1250 | P31: 1250 | Q31: =P31 -> 1250 | R31: 200 | S31: 200 | T31: 200 | V31: =T31 -> 200
A32: Net proceeds from revolving credit facility | B32: 0 | C32: 0 | D32: 0 | E32: 60 | F32: 0 | G32: =F32 -> 0 | H32: 350 | I32: 250 | J32: 150 | K32: 0 | L32: =K32 -> 0 | M32: 0 | N32: 0 | O32: 0 | P32: 0 | Q32: =P32 -> 0 | R32: 0 | S32: 0 | T32: 0 | V32: =T32 -> 0
A33: Payment of debt facility issuance and modification costs | B33: -29 | C33: 0 | D33: 0 | E33: 0 | F33: -4 | G33: =F33 -> -4 | H33: 0 | I33: 0 | J33: 0 | K33: 0 | L33: =K33 -> 0 | M33: -21 | N33: -21 | O33: -39 | P33: -39 | Q33: =P33 -> -39 | R33: -4 | S33: -4 | T33: -4 | V33: =T33 -> -4
A34: Repayments of long-term debt | B34: 0 | C34: -6 | D34: -11 | E34: -11 | F34: -22 | G34: =F34 -> -22 | H34: 0 | I34: -6 | J34: -11 | K34: -22 | L34: =K34 -> -22 | M34: -921 | N34: -923 | O34: -1185 | P34: -1188 | Q34: =P34 -> -1188 | R34: -3 | S34: -6 | T34: -9 | V34: =T34 -> -9
A35: Distribution to Honeywell in connection with Spin-Off | B35: -1415 | C35: 0 | D35: 0 | E35: 0 | F35: 0 | G35: =F35 -> 0 | H35: 0 | I35: 0 | J35: 0 | K35: 0 | L35: =K35 -> 0 | M35: 0 | N35: 0 | O35: 0 | P35: 0 | Q35: =P35 -> 0 | R35: 0 | S35: 0 | T35: 0 | V35: =T35 -> 0
A36: Non-operating obligation from Honeywell, net | B36: 26 | C36: -15 | D36: -18 | E36: -24 | F36: -24 | G36: =F36 -> -24 | H36: 0 | I36: 0 | J36: -2 | K36: -2 | L36: =K36 -> -2 | M36: 0 | N36: 0 | O36: 0 | P36: 0 | Q36: =P36 -> 0 | R36: 0 | S36: 0 | T36: 0 | V36: =T36 -> 0
A37: Other, net | B37: =-13+39 -> 26 | C37: -2 | D37: -2 | E37: -3 | F37: -3 | G37: =F37 -> -3 | H37: -1 | I37: -3 | J37: -2 | K37: -2 | L37: =K37 -> -2 | M37: 5 | N37: 1 | O37: 2 | P37: -3 | Q37: =P37 -> -3 | R37: -4 | S37: -7 | T37: -5 | V37: =T37 -> -5
A38: Net cash (used in) provided by financing activities | B38: =SUM(B30:B37) -> -167 | C38: =SUM(C30:C37) -> -23 | D38: =SUM(D30:D37) -> -31 | E38: =SUM(E30:E37) -> 22 | F38: =SUM(F30:F37) -> -53 | G38: =F38 -> -53 | H38: =SUM(H30:H37) -> 349 | I38: =SUM(I30:I37) -> 241 | J38: =SUM(J30:J37) -> 135 | K38: =SUM(K30:K37) -> 253 | L38: =K38 -> 253 | M38: =SUM(M30:M37) -> 13 | N38: =SUM(N30:N37) -> 7 | O38: =SUM(O30:O37) -> 28 | P38: =SUM(P30:P37) -> 20 | Q38: =P38 -> 20 | R38: =SUM(R30:R37) -> 189 | S38: =SUM(S30:S37) -> 183 | T38: =SUM(T30:T37) -> 182 | U38: =SUM(U30:U37) -> 0 | V38: =SUM(V31:V37) -> 182
A40: Effect of foreign exchange rate changes on cash, cash equivalents and restricted cash | B40: -12 | C40: 1 | D40: 0 | E40: -2 | F40: -1 | G40: =F40 -> -1 | H40: -8 | I40: -6 | J40: -4 | K40: 1 | L40: =K40 -> 1 | M40: -3 | N40: -2 | O40: -6 | P40: -8 | Q40: =P40 -> -8 | R40: 0 | S40: -13 | T40: -12 | V40: =T40 -> -12
G41: =F41 -> 0
A42: Net increase (decrease) in cash, cash equivalents and restricted cash | B42: =B21+B27+B38+B40 -> 209 | C42: =C21+C27+C38+C40 -> -53 | D42: =D21+D27+D38+D40 -> -123 | E42: =E21+E27+E38+E40 -> -133 | F42: =F21+F27+F38+F40 -> -143 | G42: =F42 -> -143 | H42: =H21+H27+H38+H40 -> 216 | I42: =I21+I27+I38+I40 -> 240 | J42: =J21+J27+J38+J40 -> 138 | K42: =K21+K27+K38+K40 -> 395 | L42: =K42 -> 395 | M42: =M21+M27+M38+M40 -> -9 | N42: =N21+N27+N38+N40 -> 62 | O42: =O21+O27+O38+O40 -> 169 | P42: =P21+P27+P38+P40 -> 262 | Q42: =P42 -> 262 | R42: =R21+R27+R38+R40 -> -535 | S42: =S21+S27+S38+S40 -> -524 | T42: =T21+T27+T38+T40 -> -524 | U42: =U21+U27+U38+U40 -> 0 | V42: =T42 -> -524
A43: Cash, cash equivalents and restricted cash at beginning of period | B43: 56 | C43: =B44 -> 265 | D43: =B44 -> 265 | E43: =B44 -> 265 | F43: =B44 -> 265 | G43: =F43 -> 265 | H43: =G44 -> 122 | I43: =G44 -> 122 | J43: =G44 -> 122 | K43: =G44 -> 122 | L43: =K43 -> 122 | M43: =L44 -> 517 | N43: =L44 -> 517 | O43: =L44 -> 517 | P43: =L44 -> 517 | Q43: =P43 -> 517 | R43: =Q44 -> 779 | S43: =Q44 -> 779 | T43: =Q44 -> 779 | U43: =Q44 -> 779 | V43: =U43 -> 779
...

Sheet Cash Flows QTD
A1: Resideo Technologies, Inc. | B1: FY'18 | C1: FY'19 | H1: FY'20 | M1: FY'21 | R1: FY'22
A2: Consolidated Statements of Cash Flows (Quarterly)
A3: (unaudited, in millions) | B3: Yr Ended | C3: Quarter Ended | G3: Yr Ended | H3: Quarter Ended | L3: Yr Ended | M3: Quarter Ended | Q3: Yr Ended | R3: Quarter Ended | V3: Nine Months Ended
B4: 43465 | C4: 43554 | D4: 43645 | E4: 43736 | F4: 43830 | G4: 43830 | H4: 43918 | I4: 44009 | J4: 44100 | K4: 44196 | L4: 44196 | M4: 44289 | N4: 44380 | O4: 44471 | P4: 44561 | Q4: 44561 | R4: 44289 | S4: 44744 | T4: ='Income Statement'!T4 -> 44835 | U4: 44926 | V4: 44835
A5: Cash flows from operating activities:
A6: Net income (loss) | B6: ='Cash Flows YTD'!B6 -> 405 | C6: ='Cash Flows YTD'!C6 -> 48 | D6: ='Cash Flows YTD'!D6-'Cash Flows YTD'!C6 -> -11 | E6: ='Cash Flows YTD'!E6-'Cash Flows YTD'!D6 -> 8 | F6: ='Cash Flows YTD'!F6-'Cash Flows YTD'!E6 -> -9 | G6: =SUM(C6:F6) -> 36 | H6: ='Cash Flows YTD'!H6 -> -21 | I6: ='Cash Flows YTD'!I6-'Cash Flows YTD'!H6 -> -76 | J6: ='Cash Flows YTD'!J6-'Cash Flows YTD'!I6 -> 75 | K6: ='Cash Flows YTD'!K6-'Cash Flows YTD'!J6 -> 59 | L6: =SUM(H6:K6) -> 37 | M6: ='Cash Flows YTD'!M6 -> 49 | N6: ='Cash Flows YTD'!N6-'Cash Flows YTD'!M6 -> 58 | O6: ='Cash Flows YTD'!O6-'Cash Flows YTD'!N6 -> 68 | P6: ='Cash Flows YTD'!P6-'Cash Flows YTD'!O6 -> 67 | Q6: =SUM(M6:P6) -> 242 | R6: ='Cash Flows YTD'!R6 -> 87 | S6: ='Cash Flows YTD'!S6-'Cash Flows YTD'!R6 -> 94 | T6: ='Cash Flows YTD'!T6-'Cash Flows YTD'!S6 -> 63 | V6: =SUM(R6:U6) -> 244
A7: Adjustments to reconcile net income (loss) to net cash provided by operating activities:
A8: Depreciation and amortization | B8: ='Cash Flows YTD'!B8 -> 66 | C8: ='Cash Flows YTD'!C8 -> 16 | D8: ='Cash Flows YTD'!D8-'Cash Flows YTD'!C8 -> 20 | E8: ='Cash Flows YTD'!E8-'Cash Flows YTD'!D8 -> 19 | F8: ='Cash Flows YTD'!F8-'Cash Flows YTD'!E8 -> 25 | G8: =SUM(C8:F8) -> 80 | H8: ='Cash Flows YTD'!H8 -> 21 | I8: ='Cash Flows YTD'!I8-'Cash Flows YTD'!H8 -> 21 | J8: ='Cash Flows YTD'!J8-'Cash Flows YTD'!I8 -> 22 | K8: ='Cash Flows YTD'!K8-'Cash Flows YTD'!J8 -> 22 | L8: =SUM(H8:K8) -> 86 | M8: ='Cash Flows YTD'!M8 -> 23 | N8: ='Cash Flows YTD'!N8-'Cash Flows YTD'!M8 -> 22 | O8: ='Cash Flows YTD'!O8-'Cash Flows YTD'!N8 -> 22 | P8: ='Cash Flows YTD'!P8-'Cash Flows YTD'!O8 -> 21 | Q8: =SUM(M8:P8) -> 88 | R8: ='Cash Flows YTD'!R8 -> 20 | S8: ='Cash Flows YTD'!S8-'Cash Flows YTD'!R8 -> 25 | T8: ='Cash Flows YTD'!T8-'Cash Flows YTD'!S8 -> 24 | V8: =SUM(R8:U8) -> 69
A9: Share-based compensation expense | B9: ='Cash Flows YTD'!B9 -> 20 | C9: ='Cash Flows YTD'!C9 -> 7 | D9: ='Cash Flows YTD'!D9-'Cash Flows YTD'!C9 -> 7 | E9: ='Cash Flows YTD'!E9-'Cash Flows YTD'!D9 -> 8 | F9: ='Cash Flows YTD'!F9-'Cash Flows YTD'!E9 -> 3 | G9: =SUM(C9:F9) -> 25 | H9: ='Cash Flows YTD'!H9 -> 7 | I9: ='Cash Flows YTD'!I9-'Cash Flows YTD'!H9 -> 7 | J9: ='Cash Flows YTD'!J9-'Cash Flows YTD'!I9 -> 7 | K9: ='Cash Flows YTD'!K9-'Cash Flows YTD'!J9 -> 8 | L9: =SUM(H9:K9) -> 29 | M9: ='Cash Flows YTD'!M9 -> 9 | N9: ='Cash Flows YTD'!N9-'Cash Flows YTD'!M9 -> 10 | O9: ='Cash Flows YTD'!O9-'Cash Flows YTD'!N9 -> 10 | P9: ='Cash Flows YTD'!P9-'Cash Flows YTD'!O9 -> 10 | Q9: =SUM(M9:P9) -> 39 | R9: ='Cash Flows YTD'!R9 -> 11 | S9: ='Cash Flows YTD'!S9-'Cash Flows YTD'!R9 -> 11 | T9: ='Cash Flows YTD'!T9-'Cash Flows YTD'!S9 -> 14 | V9: =SUM(R9:U9) -> 36
A10: Deferred income taxes | B10: ='Cash Flows YTD'!B10 -> -323 | C10: ='Cash Flows YTD'!C10 -> 0 | D10: ='Cash Flows YTD'!D10-'Cash Flows YTD'!C10 -> 0 | E10: ='Cash Flows YTD'!E10-'Cash Flows YTD'!D10 -> 0 | F10: ='Cash Flows YTD'!F10-'Cash Flows YTD'!E10 -> -25 | G10: =SUM(C10:F10) -> -25 | H10: ='Cash Flows YTD'!H10 -> 0 | I10: ='Cash Flows YTD'!I10-'Cash Flows YTD'!H10 -> 0 | J10: ='Cash Flows YTD'!J10-'Cash Flows YTD'!I10 -> 0 | K10: ='Cash Flows YTD'!K10-'Cash Flows YTD'!J10 -> 22 | L10: =SUM(H10:K10) -> 22 | M10: ='Cash Flows YTD'!M10 -> 0 | N10: ='Cash Flows YTD'!N10-'Cash Flows YTD'!M10 -> 0 | O10: ='Cash Flows YTD'!O10-'Cash Flows YTD'!N10 -> 0 | P10: ='Cash Flows YTD'!P10-'Cash Flows YTD'!O10 -> 6 | Q10: =SUM(M10:P10) -> 6 | R10: ='Cash Flows YTD'!R10 -> 0 | S10: ='Cash Flows YTD'!S10-'Cash Flows YTD'!R10 -> 0 | T10: ='Cash Flows YTD'!T10-'Cash Flows YTD'!S10 -> 0 | V10: =SUM(R10:U10) -> 0
A11: Loss on extinguishment of debt | B11: 0 | C11: 0 | D11: 0 | E11: 0 | F11: 0 | G11: 0 | H11: 0 | I11: 0 | J11: 0 | K11: 0 | M11: ='Cash Flows YTD'!M11 -> 23 | N11: ='Cash Flows YTD'!N11-'Cash Flows YTD'!M11 -> 0 | O11: ='Cash Flows YTD'!O11-'Cash Flows YTD'!N11 -> 18 | P11: ='Cash Flows YTD'!P11-'Cash Flows YTD'!O11 -> 0 | Q11: =SUM(M11:P11) -> 41 | R11: ='Cash Flows YTD'!R11 -> 0 | S11: ='Cash Flows YTD'!S11-'Cash Flows YTD'!R11 -> 0 | T11: ='Cash Flows YTD'!T11-'Cash Flows YTD'!S11 -> 0 | V11: =SUM(R11:U11) -> 0
A12: Other, net | B12: ='Cash Flows YTD'!B12 -> 22 | C12: ='Cash Flows YTD'!C12 -> 3 | D12: ='Cash Flows YTD'!D12-'Cash Flows YTD'!C12 -> 17 | E12: ='Cash Flows YTD'!E12-'Cash Flows YTD'!D12 -> 2 | F12: ='Cash Flows YTD'!F12-'Cash Flows YTD'!E12 -> 2 | G12: =SUM(C12:F12) -> 24 | H12: ='Cash Flows YTD'!H12 -> 17 | I12: ='Cash Flows YTD'!I12-'Cash Flows YTD'!H12 -> 10 | J12: ='Cash Flows YTD'!J12-'Cash Flows YTD'!I12 -> -3 | K12: ='Cash Flows YTD'!K12-'Cash Flows YTD'!J12 -> 2 | L12: =SUM(H12:K12) -> 26 | M12: ='Cash Flows YTD'!M12 -> -4 | N12: ='Cash Flows YTD'!N12-'Cash Flows YTD'!M12 -> -10 | O12: ='Cash Flows YTD'!O12-'Cash Flows YTD'!N12 -> 4 | P12: ='Cash Flows YTD'!P12-'Cash Flows YTD'!O12 -> -2 | Q12: =SUM(M12:P12) -> -12 | R12: ='Cash Flows YTD'!R12 -> 2 | S12: ='Cash Flows YTD'!S12-'Cash Flows YTD'!R12 -> -7 | T12: ='Cash Flows YTD'!T12-'Cash Flows YTD'!S12 -> 13 | V12: =SUM(R12:U12) -> 8
A13: Changes in operating assets and liabilities, net of effect of acquisitions: | T13: ='Cash Flows YTD'!T13-'Cash Flows YTD'!S13 -> 0
A14: Accounts receivable, net | B14: ='Cash Flows YTD'!B14 -> -62 | C14: ='Cash Flows YTD'!C14 -> -17 | D14: ='Cash Flows YTD'!D14-'Cash Flows YTD'!C14 -> 10 | E14: ='Cash Flows YTD'!E14-'Cash Flows YTD'!D14 -> -20 | F14: ='Cash Flows YTD'!F14-'Cash Flows YTD'!E14 -> 34 | G14: =SUM(C14:F14) -> 7 | H14: ='Cash Flows YTD'!H14 -> -17 | I14: ='Cash Flows YTD'!I14-'Cash Flows YTD'!H14 -> 130 | J14: ='Cash Flows YTD'!J14-'Cash Flows YTD'!I14 -> -177 | K14: ='Cash Flows YTD'!K14-'Cash Flows YTD'!J14 -> 37 | L14: =SUM(H14:K14) -> -27 | M14: ='Cash Flows YTD'!M14 -> -17 | N14: ='Cash Flows YTD'!N14-'Cash Flows YTD'!M14 -> -16 | O14: ='Cash Flows YTD'!O14-'Cash Flows YTD'!N14 -> -45 | P14: ='Cash Flows YTD'!P14-'Cash Flows YTD'!O14 -> 48 | Q14: =SUM(M14:P14) -> -30 | R14: ='Cash Flows YTD'!R14 -> -61 | S14: ='Cash Flows YTD'!S14-'Cash Flows YTD'!R14 -> -84 | T14: ='Cash Flows YTD'!T14-'Cash Flows YTD'!S14 -> 3 | V14: =SUM(R14:U14) -> -142
A15: Inventories, net | B15: ='Cash Flows YTD'!B15 -> -172 | C15: ='Cash Flows YTD'!C15 -> -72 | D15: ='Cash Flows YTD'!D15-'Cash Flows YTD'!C15 -> -23 | E15: ='Cash Flows YTD'!E15-'Cash Flows YTD'!D15 -> -14 | F15: ='Cash Flows YTD'!F15-'Cash Flows YTD'!E15 -> 65 | G15: =SUM(C15:F15) -> -44 | H15: ='Cash Flows YTD'!H15 -> -6 | I15: ='Cash Flows YTD'!I15-'Cash Flows YTD'!H15 -> 64 | J15: ='Cash Flows YTD'!J15-'Cash Flows YTD'!I15 -> 6 | K15: ='Cash Flows YTD'!K15-'Cash Flows YTD'!J15 -> -45 | L15: =SUM(H15:K15) -> 19 | M15: ='Cash Flows YTD'!M15 -> -10 | N15: ='Cash Flows YTD'!N15-'Cash Flows YTD'!M15 -> 2 | O15: ='Cash Flows YTD'!O15-'Cash Flows YTD'!N15 -> -32 | P15: ='Cash Flows YTD'!P15-'Cash Flows YTD'!O15 -> -33 | Q15: =SUM(M15:P15) -> -73 | R15: ='Cash Flows YTD'!R15 -> -66 | S15: ='Cash Flows YTD'!S15-'Cash Flows YTD'!R15 -> -61 | T15: ='Cash Flows YTD'!T15-'Cash Flows YTD'!S15 -> -2 | V15: =SUM(R15:U15) -> -129
A16: Other current assets | B16: ='Cash Flows YTD'!B16 -> -27 | C16: ='Cash Flows YTD'!C16 -> -16 | D16: ='Cash Flows YTD'!D16-'Cash Flows YTD'!C16 -> 8 | E16: ='Cash Flows YTD'!E16-'Cash Flows YTD'!D16 -> -5 | F16: ='Cash Flows YTD'!F16-'Cash Flows YTD'!E16 -> -40 | G16: =SUM(C16:F16) -> -53 | H16: ='Cash Flows YTD'!H16 -> 10 | I16: ='Cash Flows YTD'!I16-'Cash Flows YTD'!H16 -> 3 | J16: ='Cash Flows YTD'!J16-'Cash Flows YTD'!I16 -> 2 | K16: ='Cash Flows YTD'!K16-'Cash Flows YTD'!J16 -> -10 | L16: =SUM(H16:K16) -> 5 | M16: ='Cash Flows YTD'!M16 -> 16 | N16: ='Cash Flows YTD'!N16-'Cash Flows YTD'!M16 -> -40 | O16: ='Cash Flows YTD'!O16-'Cash Flows YTD'!N16 -> 18 | P16: ='Cash Flows YTD'!P16-'Cash Flows YTD'!O16 -> 33 | Q16: =SUM(M16:P16) -> 27 | R16: ='Cash Flows YTD'!R16 -> -12 | S16: ='Cash Flows YTD'!S16-'Cash Flows YTD'!R16 -> -9 | T16: ='Cash Flows YTD'!T16-'Cash Flows YTD'!S16 -> -17 | V16: =SUM(R16:U16) -> -38
A17: Accounts payable | B17: ='Cash Flows YTD'!B17 -> 231 | C17: ='Cash Flows YTD'!C17 -> 70 | D17: ='Cash Flows YTD'!D17-'Cash Flows YTD'!C17 -> -45 | E17: ='Cash Flows YTD'!E17-'Cash Flows YTD'!D17 -> -48 | F17: ='Cash Flows YTD'!F17-'Cash Flows YTD'!E17 -> -15 | G17: =SUM(C17:F17) -> -38 | H17: ='Cash Flows YTD'!H17 -> -1 | I17: ='Cash Flows YTD'!I17-'Cash Flows YTD'!H17 -> -108 | J17: ='Cash Flows YTD'!J17-'Cash Flows YTD'!I17 -> 47 | K17: ='Cash Flows YTD'!K17-'Cash Flows YTD'!J17 -> 61 | L17: =SUM(H17:K17) -> -1 | M17: ='Cash Flows YTD'!M17 -> -15 | N17: ='Cash Flows YTD'!N17-'Cash Flows YTD'!M17 -> 0 | O17: ='Cash Flows YTD'!O17-'Cash Flows YTD'!N17 -> -4 | P17: ='Cash Flows YTD'!P17-'Cash Flows YTD'!O17 -> -23 | Q17: =SUM(M17:P17) -> -42 | R17: ='Cash Flows YTD'!R17 -> 17 | S17: ='Cash Flows YTD'!S17-'Cash Flows YTD'!R17 -> 37 | T17: ='Cash Flows YTD'!T17-'Cash Flows YTD'!S17 -> -49 | V17: =SUM(R17:U17) -> 5
A18: Accrued liabilities | B18: ='Cash Flows YTD'!B18 -> 61 | C18: ='Cash Flows YTD'!C18 -> -6 | D18: ='Cash Flows YTD'!D18-'Cash Flows YTD'!C18 -> -11 | E18: ='Cash Flows YTD'!E18-'Cash Flows YTD'!D18 -> 11 | F18: ='Cash Flows YTD'!F18-'Cash Flows YTD'!E18 -> 28 | G18: =SUM(C18:F18) -> 22 | H18: ='Cash Flows YTD'!H18 -> -80 | I18: ='Cash Flows YTD'!I18-'Cash Flows YTD'!H18 -> 88 | J18: ='Cash Flows YTD'!J18-'Cash Flows YTD'!I18 -> 40 | K18: ='Cash Flows YTD'!K18-'Cash Flows YTD'!J18 -> -22 | L18: =SUM(H18:K18) -> 26 | M18: ='Cash Flows YTD'!M18 -> -60 | N18: ='Cash Flows YTD'!N18-'Cash Flows YTD'!M18 -> 59 | O18: ='Cash Flows YTD'!O18-'Cash Flows YTD'!N18 -> 41 | P18: ='Cash Flows YTD'!P18-'Cash Flows YTD'!O18 -> -11 | Q18: =SUM(M18:P18) -> 29 | R18: ='Cash Flows YTD'!R18 -> -66 | S18: ='Cash Flows YTD'!S18-'Cash Flows YTD'!R18 -> 19 | T18: ='Cash Flows YTD'!T18-'Cash Flows YTD'!S18 -> 22 | V18: =SUM(R18:U18) -> -25
A19: Obligations payable under Indemnification Agreements | B19: ='Cash Flows YTD'!B19 -> 24 | C19: ='Cash Flows YTD'!C19 -> -49 | D19: ='Cash Flows YTD'!D19-'Cash Flows YTD'!C19 -> 1 | E19: ='Cash Flows YTD'!E19-'Cash Flows YTD'!D19 -> -1 | F19: ='Cash Flows YTD'!F19-'Cash Flows YTD'!E19 -> 14 | G19: =SUM(C19:F19) -> -35 | H19: ='Cash Flows YTD'!H19 -> -2 | I19: ='Cash Flows YTD'!I19-'Cash Flows YTD'!H19 -> -7 | J19: ='Cash Flows YTD'!J19-'Cash Flows YTD'!I19 -> 1 | K19: ='Cash Flows YTD'!K19-'Cash Flows YTD'!J19 -> 4 | L19: =SUM(H19:K19) -> -4 | M19: ='Cash Flows YTD'!M19 -> -7 | N19: ='Cash Flows YTD'!N19-'Cash Flows YTD'!M19 -> 1 | O19: ='Cash Flows YTD'!O19-'Cash Flows YTD'!N19 -> 3 | P19: ='Cash Flows YTD'!P19-'Cash Flows YTD'!O19 -> -2 | Q19: =SUM(M19:P19) -> -5 | R19: ='Cash Flows YTD'!R19 -> 7 | S19: ='Cash Flows YTD'!S19-'Cash Flows YTD'!R19 -> 9 | T19: ='Cash Flows YTD'!T19-'Cash Flows YTD'!S19 -> -26 | V19: =SUM(R19:U19) -> -10
A20: Other, net | B20: ='Cash Flows YTD'!B20 -> 217 | C20: ='Cash Flows YTD'!C20 -> 6 | D20: ='Cash Flows YTD'!D20-'Cash Flows YTD'!C20 -> 0 | E20: ='Cash Flows YTD'!E20-'Cash Flows YTD'!D20 -> 7 | F20: ='Cash Flows YTD'!F20-'Cash Flows YTD'!E20 -> 11 | G20: =SUM(C20:F20) -> 24 | H20: ='Cash Flows YTD'!H20 -> -2 | I20: ='Cash Flows YTD'!I20-'Cash Flows YTD'!H20 -> 13 | J20: ='Cash Flows YTD'!J20-'Cash Flows YTD'!I20 -> 1 | K20: ='Cash Flows YTD'!K20-'Cash Flows YTD'!J20 -> 14 | L20: =SUM(H20:K20) -> 26 | M20: ='Cash Flows YTD'!M20 -> -2 | N20: ='Cash Flows YTD'!N20-'Cash Flows YTD'!M20 -> 8 | O20: ='Cash Flows YTD'!O20-'Cash Flows YTD'!N20 -> 1 | P20: ='Cash Flows YTD'!P20-'Cash Flows YTD'!O20 -> -2 | Q20: =SUM(M20:P20) -> 5 | R20: ='Cash Flows YTD'!R20 -> 2 | S20: ='Cash Flows YTD'!S20-'Cash Flows YTD'!R20 -> 1 | T20: ='Cash Flows YTD'!T20-'Cash Flows YTD'!S20 -> -8 | V20: =SUM(R20:U20) -> -5
A21: Net cash provided by (used in) operating activities | B21: ='Cash Flows YTD'!B21 -> 462 | C21: =SUM(C6:C20) -> -10 | D21: =SUM(D6:D20) -> -27 | E21: =SUM(E6:E20) -> -33 | F21: =SUM(F6:F20) -> 93 | G21: =SUM(G6:G20) -> 23 | H21: =SUM(H6:H20) -> -74 | I21: =SUM(I6:I20) -> 145 | J21: =SUM(J6:J20) -> 21 | ... T21: =SUM(T6:T20) -> 37 | V21: =SUM(V6:V20) -> 13
A23: Cash flows from investing activities:
A24: Capital expenditures | B24: ='Cash Flows YTD'!B24 -> -81 | C24: ='Cash Flows YTD'!C24 -> -15 | D24: ='Cash Flows YTD'!D24-'Cash Flows YTD'!C24 -> -23 | E24: ='Cash Flows YTD'!E24-'Cash Flows YTD'!D24 -> -28 | F24: ='Cash Flows YTD'!F24-'Cash Flows YTD'!E24 -> -29 | G24: =SUM(C24:F24) -> -95 | H24: ='Cash Flows YTD'!H24 -> -16 | I24: ='Cash Flows YTD'!I24-'Cash Flows YTD'!H24 -> -15 | J24: ='Cash Flows YTD'!J24-'Cash Flows YTD'!I24 -> -19 | K24: ='Cash Flows YTD'!K24-'Cash Flows YTD'!J24 -> -20 | L24: =SUM(H24:K24) -> -70 | M24: ='Cash Flows YTD'!M24 -> -19 | N24: ='Cash Flows YTD'!N24-'Cash Flows YTD'!M24 -> -16 | O24: ='Cash Flows YTD'!O24-'Cash Flows YTD'!N24 -> -13 | P24: ='Cash Flows YTD'!P24-'Cash Flows YTD'!O24 -> -15 | Q24: =SUM(M24:P24) -> -63 | R24: ='Cash Flows YTD'!R24 -> -19 | S24: ='Cash Flows YTD'!S24-'Cash Flows YTD'!R24 -> -5 | T24: ='Cash Flows YTD'!T24-'Cash Flows YTD'!S24 -> -10 | V24: =SUM(R24:U24) -> -34
A25: Acquisitions, net of cash acquired | B25: ='Cash Flows YTD'!B25 -> 0 | C25: ='Cash Flows YTD'!C25 -> -6 | D25: ='Cash Flows YTD'!D25-'Cash Flows YTD'!C25 -> -11 | E25: ='Cash Flows YTD'!E25-'Cash Flows YTD'!D25 -> 0 | F25: ='Cash Flows YTD'!F25-'Cash Flows YTD'!E25 -> 0 | G25: =SUM(C25:F25) -> -17 | H25: ='Cash Flows YTD'!H25 -> -35 | I25: ='Cash Flows YTD'!I25-'Cash Flows YTD'!H25 -> 0 | J25: ='Cash Flows YTD'!J25-'Cash Flows YTD'!I25 -> 0 | K25: ='Cash Flows YTD'!K25-'Cash Flows YTD'!J25 -> 0 | L25: =SUM(H25:K25) -> -35 | M25: ='Cash Flows YTD'!M25 -> -5 | N25: ='Cash Flows YTD'!N25-'Cash Flows YTD'!M25 -> -5 | O25: ='Cash Flows YTD'!O25-'Cash Flows YTD'!N25 -> -1 | P25: ='Cash Flows YTD'!P25-'Cash Flows YTD'!O25 -> 0 | Q25: =SUM(M25:P25) -> -11 | R25: ='Cash Flows YTD'!R25 -> -633 | S25: ='Cash Flows YTD'!S25-'Cash Flows YTD'!R25 -> 0 | T25: ='Cash Flows YTD'!T25-'Cash Flows YTD'!S25 -> -27 | V25: =SUM(R25:U25) -> -660
A26: Other, net | B26: ='Cash Flows YTD'!B26 -> 7 | C26: ='Cash Flows YTD'!C26 -> 0 | D26: ='Cash Flows YTD'!D26-'Cash Flows YTD'!C26 -> 0 | E26: ='Cash Flows YTD'!E26-'Cash Flows YTD'!D26 -> 0 | F26: ='Cash Flows YTD'!F26-'Cash Flows YTD'!E26 -> 0 | G26: =SUM(C26:F26) -> 0 | H26: ='Cash Flows YTD'!H26 -> 0 | I26: ='Cash Flows YTD'!I26-'Cash Flows YTD'!H26 -> 0 | J26: ='Cash Flows YTD'!J26-'Cash Flows YTD'!I26 -> 0 | K26: ='Cash Flows YTD'!K26-'Cash Flows YTD'!J26 -> 2 | L26: =SUM(H26:K26) -> 2 | M26: ='Cash Flows YTD'!M26 -> 0 | N26: ='Cash Flows YTD'!N26-'Cash Flows YTD'!M26 -> 3 | O26: ='Cash Flows YTD'!O26-'Cash Flows YTD'!N26 -> 0 | P26: ='Cash Flows YTD'!P26-'Cash Flows YTD'!O26 -> 6 | Q26: =SUM(M26:P26) -> 9 | R26: ='Cash Flows YTD'!R26 -> -13 | S26: ='Cash Flows YTD'!S26-'Cash Flows YTD'!R26 -> 0 | T26: ='Cash Flows YTD'!T26-'Cash Flows YTD'!S26 -> 0 | V26: =SUM(R26:U26) -> -13
A27: Net cash used in investing activities | B27: ='Cash Flows YTD'!B27 -> -74 | C27: =SUM(C24:C26) -> -21 | D27: =SUM(D24:D26) -> -34 | E27: =SUM(E24:E26) -> -28 | F27: =SUM(F24:F26) -> -29 | G27: =SUM(G24:G26) -> -112 | H27: =SUM(H24:H26) -> -51 | I27: =SUM(I24:I26) -> -15 | J27: =SUM(J24:J26) -> -19 | ... T27: =SUM(T24:T26) -> -37 | V27: =SUM(V24:V26) -> -707
A29: Cash flow from financing activities:
A30: Issuance of common stock through public offering, net of issuance cost | B30: ='Cash Flows YTD'!B30 -> 0 | C30: ='Cash Flows YTD'!C30 -> 0 | D30: ='Cash Flows YTD'!D30-'Cash Flows YTD'!C30 -> 0 | E30: ='Cash Flows YTD'!E30-'Cash Flows YTD'!D30 -> 0 | F30: ='Cash Flows YTD'!F30-'Cash Flows YTD'!E30 -> 0 | G30: =SUM(C30:F30) -> 0 | H30: ='Cash Flows YTD'!H30 -> 0 | I30: ='Cash Flows YTD'!I30-'Cash Flows YTD'!H30 -> 0 | J30: ='Cash Flows YTD'!J30-'Cash Flows YTD'!I30 -> 0 | K30: ='Cash Flows YTD'!K30-'Cash Flows YTD'!J30 -> 279 | L30: =SUM(H30:K30) -> 279 | M30: ='Cash Flows YTD'!M30 -> 0 | N30: ='Cash Flows YTD'!N30-'Cash Flows YTD'!M30 -> 0 | O30: ='Cash Flows YTD'!O29-'Cash Flows YTD'!N29 -> 0 | P30: ='Cash Flows YTD'!P29-'Cash Flows YTD'!O29 -> 0 | Q30: =SUM(M30:P30) -> 0 | R30: ='Cash Flows YTD'!R30 -> 0 | S30: ='Cash Flows YTD'!S30-'Cash Flows YTD'!R30 -> 0 | T30: ='Cash Flows YTD'!T30-'Cash Flows YTD'!S30 -> 0 | V30: =SUM(R30:U30) -> 0
A31: Proceeds from long-term debt | B31: ='Cash Flows YTD'!B31 -> 1225 | C31: ='Cash Flows YTD'!C31 -> 0 | D31: ='Cash Flows YTD'!D31-'Cash Flows YTD'!C31 -> 0 | E31: ='Cash Flows YTD'!E31-'Cash Flows YTD'!D31 -> 0 | F31: ='Cash Flows YTD'!F31-'Cash Flows YTD'!E31 -> 0 | G31: =SUM(C31:F31) -> 0 | H31: ='Cash Flows YTD'!H31 -> 0 | I31: ='Cash Flows YTD'!I31-'Cash Flows YTD'!H31 -> 0 | J31: ='Cash Flows YTD'!J31-'Cash Flows YTD'!I31 -> 0 | K31: ='Cash Flows YTD'!K31-'Cash Flows YTD'!J31 -> 0 | L31: =SUM(H31:K31) -> 0 | M31: ='Cash Flows YTD'!M31 -> 950 | N31: ='Cash Flows YTD'!N31-'Cash Flows YTD'!M31 -> 0 | O31: ='Cash Flows YTD'!O31-'Cash Flows YTD'!N31 -> 300 | P31: ='Cash Flows YTD'!P31-'Cash Flows YTD'!O31 -> 0 | Q31: =SUM(M31:P31) -> 1250 | R31: ='Cash Flows YTD'!R31 -> 200 | S31: ='Cash Flows YTD'!S31-'Cash Flows YTD'!R31 -> 0 | T31: ='Cash Flows YTD'!T31-'Cash Flows YTD'!S31 -> 0 | V31: =SUM(R31:U31) -> 200
A32: Net proceeds from revolving credit facility | B32: ='Cash Flows YTD'!B32 -> 0 | C32: ='Cash Flows YTD'!C32 -> 0 | D32: ='Cash Flows YTD'!D32-'Cash Flows YTD'!C32 -> 0 | E32: ='Cash Flows YTD'!E32-'Cash Flows YTD'!D32 -> 60 | F32: ='Cash Flows YTD'!F32-'Cash Flows YTD'!E32 -> -60 | G32: =SUM(C32:F32) -> 0 | H32: ='Cash Flows YTD'!H32 -> 350 | I32: ='Cash Flows YTD'!I32-'Cash Flows YTD'!H32 -> -100 | J32: ='Cash Flows YTD'!J32-'Cash Flows YTD'!I32 -> -100 | K32: ='Cash Flows YTD'!K32-'Cash Flows YTD'!J32 -> -150 | L32: =SUM(H32:K32) -> 0 | M32: ='Cash Flows YTD'!M32 -> 0 | N32: ='Cash Flows YTD'!N32-'Cash Flows YTD'!M32 -> 0 | O32: 0 | P32: ='Cash Flows YTD'!P32-'Cash Flows YTD'!O32 -> 0 | Q32: =SUM(M32:P32) -> 0 | R32: ='Cash Flows YTD'!R32 -> 0 | S32: ='Cash Flows YTD'!S32-'Cash Flows YTD'!R32 -> 0 | T32: ='Cash Flows YTD'!T32-'Cash Flows YTD'!S32 -> 0 | V32: =SUM(R32:U32) -> 0
A33: Payment of debt facility issuance and modification costs | B33: ='Cash Flows YTD'!B33 -> -29 | C33: ='Cash Flows YTD'!C33 -> 0 | D33: ='Cash Flows YTD'!D33-'Cash Flows YTD'!C33 -> 0 | E33: ='Cash Flows YTD'!E33-'Cash Flows YTD'!D33 -> 0 | F33: ='Cash Flows YTD'!F33-'Cash Flows YTD'!E33 -> -4 | G33: =SUM(C33:F33) -> -4 | H33: ='Cash Flows YTD'!H33 -> 0 | I33: ='Cash Flows YTD'!I33-'Cash Flows YTD'!H33 -> 0 | J33: ='Cash Flows YTD'!J33-'Cash Flows YTD'!I33 -> 0 | K33: ='Cash Flows YTD'!K33-'Cash Flows YTD'!J33 -> 0 | L33: =SUM(H33:K33) -> 0 | M33: ='Cash Flows YTD'!M33 -> -21 | N33: ='Cash Flows YTD'!N33-'Cash Flows YTD'!M33 -> 0 | O33: ='Cash Flows YTD'!O33-'Cash Flows YTD'!N33 -> -18 | P33: ='Cash Flows YTD'!P33-'Cash Flows YTD'!O33 -> 0 | Q33: =SUM(M33:P33) -> -39 | R33: ='Cash Flows YTD'!R33 -> -4 | S33: ='Cash Flows YTD'!S33-'Cash Flows YTD'!R33 -> 0 | T33: ='Cash Flows YTD'!T33-'Cash Flows YTD'!S33 -> 0 | V33: =SUM(R33:U33) -> -4
A34: Repayments of long-term debt | B34: ='Cash Flows YTD'!B34 -> 0 | C34: ='Cash Flows YTD'!C34 -> -6 | D34: ='Cash Flows YTD'!D34-'Cash Flows YTD'!C34 -> -5 | E34: ='Cash Flows YTD'!E34-'Cash Flows YTD'!D34 -> 0 | F34: ='Cash Flows YTD'!F34-'Cash Flows YTD'!E34 -> -11 | G34: =SUM(C34:F34) -> -22 | H34: ='Cash Flows YTD'!H34 -> 0 | I34: ='Cash Flows YTD'!I34-'Cash Flows YTD'!H34 -> -6 | J34: ='Cash Flows YTD'!J34-'Cash Flows YTD'!I34 -> -5 | K34: ='Cash Flows YTD'!K34-'Cash Flows YTD'!J34 -> -11 | L34: =SUM(H34:K34) -> -22 | M34: ='Cash Flows YTD'!M34 -> -921 | N34: ='Cash Flows YTD'!N34-'Cash Flows YTD'!M34 -> -2 | O34: ='Cash Flows YTD'!O34-'Cash Flows YTD'!N34 -> -262 | P34: ='Cash Flows YTD'!P34-'Cash Flows YTD'!O34 -> -3 | Q34: =SUM(M34:P34) -> -1188 | R34: ='Cash Flows YTD'!R34 -> -3 | S34: ='Cash Flows YTD'!S34-'Cash Flows YTD'!R34 -> -3 | T34: ='Cash Flows YTD'!T34-'Cash Flows YTD'!S34 -> -3 | V34: =SUM(R34:U34) -> -9
A35: Distribution to Honeywell in connection with Spin-Off | B35: ='Cash Flows YTD'!B35 -> -1415 | C35: ='Cash Flows YTD'!C35 -> 0 | D35: ='Cash Flows YTD'!D35-'Cash Flows YTD'!C35 -> 0 | E35: ='Cash Flows YTD'!E35-'Cash Flows YTD'!D35 -> 0 | F35: ='Cash Flows YTD'!F35-'Cash Flows YTD'!E35 -> 0 | G35: =SUM(C35:F35) -> 0 | H35: ='Cash Flows YTD'!H35 -> 0 | I35: ='Cash Flows YTD'!I35-'Cash Flows YTD'!H35 -> 0 | J35: ='Cash Flows YTD'!J35-'Cash Flows YTD'!I35 -> 0 | K35: ='Cash Flows YTD'!K35-'Cash Flows YTD'!J35 -> 0 | L35: =SUM(H35:K35) -> 0 | M35: ='Cash Flows YTD'!M35 -> 0 | N35: ='Cash Flows YTD'!N35-'Cash Flows YTD'!M35 -> 0 | O35: ='Cash Flows YTD'!O35-'Cash Flows YTD'!N35 -> 0 | P35: ='Cash Flows YTD'!P35-'Cash Flows YTD'!O35 -> 0 | Q35: =SUM(M35:P35) -> 0 | R35: ='Cash Flows YTD'!R35 -> 0 | S35: ='Cash Flows YTD'!S35-'Cash Flows YTD'!R35 -> 0 | T35: ='Cash Flows YTD'!T35-'Cash Flows YTD'!S35 -> 0 | V35: =SUM(R35:U35) -> 0
A36: Non-operating obligation from Honeywell, net | B36: ='Cash Flows YTD'!B36 -> 26 | C36: ='Cash Flows YTD'!C36 -> -15 | D36: ='Cash Flows YTD'!D36-'Cash Flows YTD'!C36 -> -3 | E36: ='Cash Flows YTD'!E36-'Cash Flows YTD'!D36 -> -6 | F36: ='Cash Flows YTD'!F36-'Cash Flows YTD'!E36 -> 0 | G36: =SUM(C36:F36) -> -24 | H36: ='Cash Flows YTD'!H36 -> 0 | I36: ='Cash Flows YTD'!I36-'Cash Flows YTD'!H36 -> 0 | J36: ='Cash Flows YTD'!J36-'Cash Flows YTD'!I36 -> -2 | K36: ='Cash Flows YTD'!K36-'Cash Flows YTD'!J36 -> 0 | L36: =SUM(H36:K36) -> -2 | M36: ='Cash Flows YTD'!M36 -> 0 | N36: ='Cash Flows YTD'!N36-'Cash Flows YTD'!M36 -> 0 | O36: ='Cash Flows YTD'!O35-'Cash Flows YTD'!N35 -> 0 | P36: ='Cash Flows YTD'!P36-'Cash Flows YTD'!O36 -> 0 | Q36: =SUM(M36:P36) -> 0 | R36: ='Cash Flows YTD'!R36 -> 0 | S36: ='Cash Flows YTD'!S36-'Cash Flows YTD'!R36 -> 0 | T36: ='Cash Flows YTD'!T36-'Cash Flows YTD'!S36 -> 0 | V36: =SUM(R36:U36) -> 0
A37: Other, net | B37: ='Cash Flows YTD'!B37 -> 26 | C37: ='Cash Flows YTD'!C37 -> -2 | D37: ='Cash Flows YTD'!D37-'Cash Flows YTD'!C37 -> 0 | E37: ='Cash Flows YTD'!E37-'Cash Flows YTD'!D37 -> -1 | F37: ='Cash Flows YTD'!F37-'Cash Flows YTD'!E37 -> 0 | G37: =SUM(C37:F37) -> -3 | H37: ='Cash Flows YTD'!H37 -> -1 | I37: ='Cash Flows YTD'!I37-'Cash Flows YTD'!H37 -> -2 | J37: ='Cash Flows YTD'!J37-'Cash Flows YTD'!I37 -> 1 | K37: ='Cash Flows YTD'!K37-'Cash Flows YTD'!J37 -> 0 | L37: =SUM(H37:K37) -> -2 | M37: ='Cash Flows YTD'!M37 -> 5 | N37: ='Cash Flows YTD'!N37-'Cash Flows YTD'!M37 -> -4 | O37: ='Cash Flows YTD'!O37-'Cash Flows YTD'!N37 -> 1 | P37: ='Cash Flows YTD'!P37-'Cash Flows YTD'!O37 -> -5 | Q37: =SUM(M37:P37) -> -3 | R37: ='Cash Flows YTD'!R37 -> -4 | S37: ='Cash Flows YTD'!S37-'Cash Flows YTD'!R37 -> -3 | T37: ='Cash Flows YTD'!T37-'Cash Flows YTD'!S37 -> 2 | V37: =SUM(R37:U37) -> -5
A38: Net cash (used in) provided by financing activities | B38: ='Cash Flows YTD'!B38 -> -167 | C38: =SUM(C30:C37) -> -23 | D38: =SUM(D30:D37) -> -8 | E38: =SUM(E30:E37) -> 53 | F38: =SUM(F30:F37) -> -75 | G38: =SUM(G30:G37) -> -53 | H38: =SUM(H30:H37) -> 349 | I38: =SUM(I30:I37) -> -108 | J38: =SUM(J30:J37) -> -106 | ... T38: =SUM(T30:T37) -> -1 | V38: =SUM(V30:V37) -> 182
A40: Effect of foreign exchange rate changes on cash, cash equivalents and restricted cash | B40: ='Cash Flows YTD'!B40 -> -12 | C40: ='Cash Flows YTD'!C40 -> 1 | D40: ='Cash Flows YTD'!D40-'Cash Flows YTD'!C40 -> -1 | E40: ='Cash Flows YTD'!E40-'Cash Flows YTD'!D40 -> -2 | F40: ='Cash Flows YTD'!F40-'Cash Flows YTD'!E40 -> 1 | G40: =SUM(C40:F40) -> -1 | H40: ='Cash Flows YTD'!H40 -> -8 | I40: ='Cash Flows YTD'!I40-'Cash Flows YTD'!H40 -> 2 | J40: ='Cash Flows YTD'!J40-'Cash Flows YTD'!I40 -> 2 | K40: ='Cash Flows YTD'!K40-'Cash Flows YTD'!J40 -> 5 | L40: =SUM(H40:K40) -> 1 | M40: ='Cash Flows YTD'!M40 -> -3 | N40: ='Cash Flows YTD'!N40-'Cash Flows YTD'!M40 -> 1 | O40: ='Cash Flows YTD'!O40-'Cash Flows YTD'!N40 -> -4 | P40: ='Cash Flows YTD'!P40-'Cash Flows YTD'!O40 -> -2 | Q40: =SUM(M40:P40) -> -8 | R40: ='Cash Flows YTD'!R40 -> 0 | S40: ='Cash Flows YTD'!S40-'Cash Flows YTD'!R40 -> -13 | T40: ='Cash Flows YTD'!T40-'Cash Flows YTD'!S40 -> 1 | V40: =SUM(R40:U40) -> -12
A42: Net increase (decrease) in cash, cash equivalents and restricted cash | B42: ='Cash Flows YTD'!B42 -> 209 | C42: =C21+C27+C38+C40 -> -53 | D42: =D21+D27+D38+D40 -> -70 | E42: =E21+E27+E38+E40 -> -10 | F42: =F21+F27+F38+F40 -> -10 | G42: =SUM(C42:F42) -> -143 | H42: =H21+H27+H38+H40 -> 216 | I42: =I21+I27+I38+I40 -> 24 | J42: =J21+J27+J38+J40 -> -102 | K42: =K21+K27+K38+K40 -> 257 | L42: =SUM(H42:K42) -> 395 | M42: =M21+M27+M38+M40 -> -9 | N42: =N21+N27+N38+N40 -> 71 | O42: =O21+O27+O38+O40 -> 107 | P42: =P21+P27+P38+P40 -> 93 | Q42: =SUM(M42:P42) -> 262 | R42: =R21+R27+R38+R40 -> -535 | S42: =S21+S27+S38+S40 -> 11 | T42: =T21+T27+T38+T40 -> 0 | V42: =SUM(R42:U42) -> -524
A43: Cash, cash equivalents and restricted cash at beginning of period | B43: ='Cash Flows YTD'!B43 -> 56 | C43: =B44 -> 265 | D43: =C44 -> 212 | E43: =D44 -> 142 | F43: =E44 -> 132 | G43: =B44 -> 265 | H43: =$G$44 -> 122 | I43: =H44 -> 338 | J43: =I44 -> 362 | K43: =J44 -> 260 | L43: =G44 -> 122 | M43: =L44 -> 517 | N43: =M44 -> 508 | O43: =N44 -> 579 | P43: =O44 -> 686 | Q43: =L44 -> 517 | R43: =Q44 -> 779 | S43: =R44 -> 244 | T43: =S44 -> 255 | V43: =Q44 -> 779
A44: Cash, cash equivalents and restricted cash at end of period | B44: ='Cash Flows YTD'!B44 -> 265 | C44: =SUM(C42:C43) -> 212 | D44: =SUM(D42:D43) -> 142 | E44: =SUM(E42:E43) -> 132 | F44: =SUM(F42:F43) -> 122 | G44: =SUM(G42:G43) -> 122 | H44: =SUM(H42:H43) -> 338 | I44: =SUM(I42:I43) -> 362 | J44: =SUM(J42:J43) -> 260 | ... T44: =SUM(T42:T43) -> 255 | V44: =SUM(V42:V43) -> 255
...

Sheet Key Metrics
A1: Resideo Technologies, Inc. | B1: FY'18 | C1: FY'19 | H1: FY'20 | M1: FY'21 | R1: FY'22
A2: Key Metrics
A3: (unaudited, in millions) | B3: Yr Ended | C3: Quarter Ended | G3: Yr Ended | H3: Quarter Ended | L3: Yr Ended | M3: Quarter Ended | Q3: Yr Ended | R3: Quarter Ended | V3: Nine Months Ended
B4: 43465 | C4: 43554 | D4: 43645 | E4: 43736 | F4: 43830 | G4: 43830 | H4: 43918 | I4: 44009 | J4: 44100 | K4: 44196 | L4: 44196 | M4: 44289 | N4: 44380 | O4: 44471 | P4: 44561 | Q4: 44561 | R4: 44653 | S4: 44744 | T4: 44835 | V4: 44835
A5: Net revenue:
A6: Products & Solutions revenue | B6: 2169 | C6: 551 | D6: 537 | E6: 512 | F6: 575 | G6: 2175 | H6: 475 | I6: 398 | J6: 572 | K6: 676 | L6: 2121 | M6: 606 | N6: 598 | O6: 631 | P6: 633 | Q6: 2468 | R6: 619 | S6: 764 | T6: 707 | V6: 2090
A7: ADI Global Distribution revenue | B7: 2658 | C7: 665 | D7: 705 | E7: 714 | F7: 729 | G7: 2813 | H7: 704 | I7: 631 | J7: 790 | K7: 825 | L7: 2950 | M7: 813 | N7: 879 | O7: 865 | P7: 821 | Q7: 3378 | R7: 887 | S7: 922 | T7: 911 | V7: 2720
A8: Total revenue | B8: 4827 | C8: 1216 | D8: 1242 | E8: 1226 | F8: 1304 | G8: 4988 | H8: 1179 | I8: 1029 | J8: 1362 | K8: 1501 | L8: 5071 | M8: 1419 | N8: 1477 | O8: 1496 | P8: 1454 | Q8: 5846 | R8: 1506 | S8: 1686 | T8: 1618 | V8: 4810
A11: Net revenue (% of total):
A12: Products & Solutions revenue | B12: 0.44934742 | C12: 0.453125 | D12: 0.43236715 | E12: 0.41761827 | F12: 0.44095092 | G12: 0.43604651 | H12: 0.4028838 | I12: 0.38678328 | J12: 0.41997063 | K12: 0.45036642 | L12: 0.4182607 | M12: 0.42706131 | N12: 0.40487475 | O12: 0.42179144 | P12: 0.43535076 | Q12: 0.422169 | R12: 0.41102258 | S12: 0.45314353 | T12: 0.43695921 | V12: 0.43451143
A13: ADI Global Distribution revenue | B13: 0.55065258 | C13: 0.546875 | D13: 0.56763285 | E13: 0.58238173 | F13: 0.55904908 | G13: 0.56395349 | H13: 0.5971162 | I13: 0.61321672 | J13: 0.58002937 | K13: 0.54963358 | L13: 0.5817393 | M13: 0.57293869 | N13: 0.59512525 | O13: 0.57820856 | P13: 0.56464924 | Q13: 0.577831 | R13: 0.58897742 | S13: 0.54685647 | T13: 0.56304079 | V13: 0.56548857
